BEGIN:VCALENDAR
VERSION:2.0
PRODID:-//eventon.com NONSGML v1.0//EN
CALSCALE:GREGORIAN
METHOD:PUBLISH
BEGIN:VEVENT
UID:69e7352cc63c9
DTSTAMP:20260421T082828Z
DTSTART:20251206T000000Z
DTEND:20251206T030000Z
LOCATION:Restless Moons Brewing\,  120 W Wolfe St\,  Harrisonburg\,  VA 22802\,  Harrisonburg\,  VA\,  22802\,  United States Restless Moons Brewing\,  120 W Wolfe St\,  Harrisonburg\,  VA 22802\,  Harrisonburg\,  VA\,  22802\,  United States
SUMMARY:Josh Davidson Life at Restless Moons Brewing Co.
DESCRIPTION:Come on down to Restless Moons Brewing Co. and treat yourself t
 o some incredible live music by Josh Davidson while sipping on our deliciou
 s small-batch craft beer. Josh is a multi-talented local musician who plays
  a wide range of genres\,  from outlaw country and southern rock to blues a
 nd folk.[..]\nhttps://visitharrisonburgva.com/events/josh-davidson-life-at-
 restless-moons-brewing-co-5/var/ri-1.l-L1
URL:https://visitharrisonburgva.com/events/josh-davidson-life-at-restless-moons-brewing-co-5/var/ri-1.l-L1
END:VEVENT
END:VCALENDAR