BEGIN:VCALENDAR
VERSION:2.0
PRODID:-//eventon.com NONSGML v1.0//EN
CALSCALE:GREGORIAN
METHOD:PUBLISH
BEGIN:VEVENT
UID:69e88eff17cc6
DTSTAMP:20260422T090359Z
DTSTART:20260213T003000Z
DTEND:20260213T045900Z
LOCATION:The Forbes Center for the Performing Arts 147 Warsaw Ave.\,  Harrisonburg\,  VA 22807\,  United States
SUMMARY:Solas
DESCRIPTION:Solas is hailed by The Boston Globe as “the finest Celtic ens
 emble this country has ever produced.” Since 1995 they have been a galvan
 izing element in the Irish music scene – a lightning rod of talent and in
 spiration that set new standards for musicianship\,  repertoire\,  and inte
 nsity. Over the course[..]\nhttps://visitharrisonburgva.com/events/solas/
URL:https://visitharrisonburgva.com/events/solas/
END:VEVENT
END:VCALENDAR