BEGIN:VCALENDAR
VERSION:2.0
PRODID:-//eventon.com NONSGML v1.0//EN
CALSCALE:GREGORIAN
METHOD:PUBLISH
BEGIN:VEVENT
UID:69e749e65b6e6
DTSTAMP:20260421T095654Z
DTSTART:20260412T180000Z
DTEND:20260413T035900Z
LOCATION:The Forbes Center for the Performing Arts 147 Warsaw Ave.\,  Harrisonburg\,  VA 22807\,  United States
SUMMARY:Cinderella: A Classic Fairytale Opera
DESCRIPTION:Adapted by Joshua Borths Based on the operas by Gioachino Rossi
 ni and Jules Massenet Featuring the JMU Opera Theatre Once upon a time\,  a
  young prince threw a royal ball to choose his future bride! Everyone in th
 e kingdom was invited\,  but Cinderella was forced to stay behind by her[..
 ]\nhttps://visitharrisonburgva.com/events/cinderella-a-classic-fairytale-op
 era/var/ri-1.l-L1
URL:https://visitharrisonburgva.com/events/cinderella-a-classic-fairytale-opera/var/ri-1.l-L1
END:VEVENT
END:VCALENDAR