BEGIN:VCALENDAR
VERSION:2.0
PRODID:-//eventon.com NONSGML v1.0//EN
CALSCALE:GREGORIAN
METHOD:PUBLISH
BEGIN:VEVENT
UID:69e8ba5c5704d
DTSTAMP:20260422T120900Z
DTSTART:20251101T120000Z
DTEND:20251101T170000Z
LOCATION:Harrisonburg Farmers Market 228 S Liberty St\,  Harrisonburg\,  VA 22801\,  USA
SUMMARY:Harvest Fest at Farmers Market
DESCRIPTION:JMU Sports &amp; Rec Management students are hard at work plann
 ing this yearâ€™s Harvest Fest! Mark your calendars â€”Â Saturday\,  Novemb
 er 1Â will be a day filled with pumpkin painting\,  apple games\,  our annu
 al pie contest\,  giant bubbles withÂ Bubbles by the â€˜BurgÂ and more! Weâ
 €™ll have an on-going sewing/mending workshop\,  so bring your[..]\nhttps:/
 /visitharrisonburgva.com/events/harvest-fest-at-farmers-market/
URL:https://visitharrisonburgva.com/events/harvest-fest-at-farmers-market/
END:VEVENT
END:VCALENDAR