BEGIN:VCALENDAR
VERSION:2.0
PRODID:-//eventon.com NONSGML v1.0//EN
CALSCALE:GREGORIAN
METHOD:PUBLISH
BEGIN:VEVENT
UID:69e778aa34c2b
DTSTAMP:20260421T131626Z
DTSTART:20251026T000000Z
DTEND:20251026T035900Z
LOCATION:Sage Bird Ciderworks 325 N Liberty St.\,  Harrisonburg\,  VA 22802
SUMMARY:Vampire Masquerade
DESCRIPTION:Time &amp; Location Oct 25\,  2025\,  8:00 PM – 11:59 PM Harr
 isonburg\,  325 N Liberty St\,  Harrisonburg\,  VA 22802\,  USA About the E
 vent BRUXA&#8217;S BALL: VAMPIRE MASQUERADE 𝖉𝖆𝖓𝖈𝖊 𝖜𝖎
 𝖍 𝖒𝖊 𝖆𝖓𝖉 𝖑𝖎𝖛𝖊 𝖋𝖔𝖗𝖊𝖛𝖊𝖗 
 Live Synth Acts\,  Costume Contest\,  Blood Bag Cocktails\nhttps://visithar
 risonburgva.com/events/vampire-masquerade/
URL:https://visitharrisonburgva.com/events/vampire-masquerade/
END:VEVENT
END:VCALENDAR