BEGIN:VCALENDAR
VERSION:2.0
PRODID:-//eventon.com NONSGML v1.0//EN
CALSCALE:GREGORIAN
METHOD:PUBLISH
BEGIN:VEVENT
UID:69e76234b4e3e
DTSTAMP:20260421T114036Z
DTSTART:20251027T230000Z
DTEND:20251028T035900Z
LOCATION:The Forbes Center for the Performing Arts 147 Warsaw Ave.\,  Harrisonburg\,  VA 22807\,  United States
SUMMARY:Casey Cangelosi\,  percussion and Aaron Trumbore\,  percussion
DESCRIPTION:Since 2011\,  Casey Cangelosi has performed solo recitals in 
 Italy\,  Germany\,  Costa Rica\,  Mexico\,  Argentina\,  Australia\,  Croat
 ia\,  Sweden\,  Taiwan\,  Portugal\,  and widely across the U.S. at events 
 including: The Midwest Clinic\,  several PASIC Showcase Concerts\,  and ove
 r 40 universities. Cangelosi is the creator of the @Percussion Podcast\,  a
 nd is the Director of[..]\nhttps://visitharrisonburgva.com/events/casey-can
 gelosi-percussion-and-aaron-trumbore-percussion/
URL:https://visitharrisonburgva.com/events/casey-cangelosi-percussion-and-aaron-trumbore-percussion/
END:VEVENT
END:VCALENDAR