BEGIN:VCALENDAR
VERSION:2.0
PRODID:-//eventon.com NONSGML v1.0//EN
CALSCALE:GREGORIAN
METHOD:PUBLISH
BEGIN:VEVENT
UID:69e88eaa832f9
DTSTAMP:20260422T090234Z
DTSTART:20251206T170000Z
DTEND:20251206T230000Z
LOCATION:Pale Fire Brewing 217 S Liberty St. Ste 105\,  Harrisonburg\,  VA 22801
SUMMARY:Handmade Harrisonburg
DESCRIPTION:Handmade Harrisonburg – a market for artists\,  creatives\,  
 and makers – returns for its ninth holiday season! Come downtown to suppo
 rt local makers and stay to enjoy all the holiday magic of Winter Wonderfes
 t (https://downtownharrisonburg.org/winter-wonderfest/) including Sip &amp;
  Stroll\,  How The Grinch Stole Liberty St\,  and the annual holiday parade
 .[..]\nhttps://visitharrisonburgva.com/events/handmade-harrisonburg/
URL:https://visitharrisonburgva.com/events/handmade-harrisonburg/
END:VEVENT
END:VCALENDAR