BEGIN:VCALENDAR
VERSION:2.0
PRODID:-//eventon.com NONSGML v1.0//EN
CALSCALE:GREGORIAN
METHOD:PUBLISH
BEGIN:VEVENT
UID:69e88e7461e28
DTSTAMP:20260422T090140Z
DTSTART:20251024T230000Z
DTEND:20251025T003000Z
LOCATION:The Offices at 31 N. Federal 31 N Federal St\,  Harrisonburg\,  VA 22802
SUMMARY:Comedy Class Graduation Showcase
DESCRIPTION:Cheer on Harrisonburg’s newest comics as they take the stage 
 for the very first time in front of a LIVE audience! After a 4-week course\
 ,  these brave souls are ready to perform original stand-up sets inspired b
 y their own lives. Hosted by The Funny Womacks\,  Dawn &amp; Chris Womack\
 ,  this showcase[..]\nhttps://visitharrisonburgva.com/events/comedy-class-g
 raduation-showcase/
URL:https://visitharrisonburgva.com/events/comedy-class-graduation-showcase/
END:VEVENT
END:VCALENDAR