BEGIN:VCALENDAR
VERSION:2.0
PRODID:-//eventon.com NONSGML v1.0//EN
CALSCALE:GREGORIAN
METHOD:PUBLISH
BEGIN:VEVENT
UID:69e8cb578eb28
DTSTAMP:20260422T132127Z
DTSTART:20251101T140000Z
DTEND:20251102T035900Z
LOCATION:Feel The Rain Brothers Brew Co. 800 N Main St\,  Harrisonburg\,  VA
SUMMARY:Resolute Release Day
DESCRIPTION:Resolute Release Day! Come out for our award winning Bourbon Ba
 rrel Aged Russian Imperial Stout and all its variants! Doors open at 10AM w
 ith: Food from Mama’s Kitchen and MashitaLive music from Big City Band 2-
 5PMGames and Fire Pits\nhttps://visitharrisonburgva.com/events/resolute-rel
 ease-day/
URL:https://visitharrisonburgva.com/events/resolute-release-day/
END:VEVENT
END:VCALENDAR