BEGIN:VCALENDAR
VERSION:2.0
PRODID:-//eventon.com NONSGML v1.0//EN
CALSCALE:GREGORIAN
METHOD:PUBLISH
BEGIN:VEVENT
UID:69e762b7b0b59
DTSTAMP:20260421T114247Z
DTSTART:20251214T000000Z
DTEND:20251214T045900Z
LOCATION:C. K. Lehman Auditorium 1191 Park Rd\,  Harrisonburg\,  VA 22802
SUMMARY:SVCC 2025 Christmas Concert
DESCRIPTION:Come join us for our annual Christmas concert! The beautiful vo
 ices of our young choristers will delight your soul and usher in all the jo
 ys of this holiday season! Tickets can be purchased at svcc.seatyourself.bi
 z\nhttps://visitharrisonburgva.com/events/svcc-2025-christmas-concert/
URL:https://visitharrisonburgva.com/events/svcc-2025-christmas-concert/
END:VEVENT
END:VCALENDAR