BEGIN:VCALENDAR
VERSION:2.0
PRODID:-//eventon.com NONSGML v1.0//EN
CALSCALE:GREGORIAN
METHOD:PUBLISH
BEGIN:VEVENT
UID:69e7782461bcb
DTSTAMP:20260421T131412Z
DTSTART:20251213T153000Z
DTEND:20251214T045900Z
LOCATION:780 University Blvd\,  Harrisonburg\,  VA 22801\,  USA 780 University Blvd\,  Harrisonburg\,  VA 22801\,  USA
SUMMARY:Teas From the Garden - Master Gardeners Talk Series
DESCRIPTION:Tea Time! If gardening is your cup of tea\,  learn how to ident
 ify edibles &#8211; wild and landscaped &#8211; and turn them into your dai
 ly brew.\nhttps://visitharrisonburgva.com/events/teas-from-the-garden-maste
 r-gardeners-talk-series/
URL:https://visitharrisonburgva.com/events/teas-from-the-garden-master-gardeners-talk-series/
END:VEVENT
END:VCALENDAR