BEGIN:VCALENDAR
VERSION:2.0
PRODID:-//eventon.com NONSGML v1.0//EN
CALSCALE:GREGORIAN
METHOD:PUBLISH
BEGIN:VEVENT
UID:69e63fe81cecf
DTSTAMP:20260420T150200Z
DTSTART:20251207T043000Z
DTEND:20251207T045900Z
LOCATION:Harrisonburg City Hall 345 S Main St Harrisonburg\,  VA 22801
SUMMARY:The 8th Annual Santa Run\,  Walk\,  'N Roll
DESCRIPTION:The Arc of Harrisonburg and Rockingham is kicking off Winter Wo
 nderfest with our eight annual fun run! Race swag includes Santa suits for 
 adults\,  elf ears for children\,  and more! You can run\,  walk\,  or roll
  (wheelchairs\,  strollers\,  skateboards\,  scooters\,  etc. encouraged!) 
 through the 1/2 mile route in downtown Harrisonburg[..]\nhttps://visitharri
 sonburgva.com/events/the-8th-annual-santa-run-walk-n-roll/
URL:https://visitharrisonburgva.com/events/the-8th-annual-santa-run-walk-n-roll/
END:VEVENT
END:VCALENDAR