BEGIN:VCALENDAR
VERSION:2.0
PRODID:-//eventon.com NONSGML v1.0//EN
CALSCALE:GREGORIAN
METHOD:PUBLISH
BEGIN:VEVENT
UID:69e761de29dd9
DTSTAMP:20260421T113910Z
DTSTART:20251219T220000Z
DTEND:20251220T000000Z
LOCATION:Rootstock Wine Bar VA 86 W Gay St\,  Harrisonburg\,  VA\,  United States\,  Virginia
SUMMARY:Wine Amongst Friends: Tim Gorman of Cardinal Point Winery
DESCRIPTION:This Friday our Wine Amongst Friends series continues with Tim 
 Gorman of Cardinal Point Winery! Although time spent living abroad in Franc
 e and Germany during his formative years certainly influenced his deep appr
 eciation of fine wines and food\,  Tim Gorman proudly claims his spot as on
 e of the few Virginia-born[..]\nhttps://visitharrisonburgva.com/events/wine
 -amongst-friends-tim-gorman-of-cardinal-point-winery/
URL:https://visitharrisonburgva.com/events/wine-amongst-friends-tim-gorman-of-cardinal-point-winery/
END:VEVENT
END:VCALENDAR