BEGIN:VCALENDAR
VERSION:2.0
PRODID:-//eventon.com NONSGML v1.0//EN
CALSCALE:GREGORIAN
METHOD:PUBLISH
BEGIN:VEVENT
UID:69e7bf0f82dab
DTSTAMP:20260421T181647Z
DTSTART:20260110T140000Z
DTEND:20260110T180000Z
LOCATION:Harrisonburg Farmers Market 228 S Liberty St\,  Harrisonburg\,  VA 22801\,  USA
SUMMARY:Harrisonburg Farmers Market
DESCRIPTION:Join us for the Winter Market season of the Harrisonburg Farmer
 s Market. Rain\,  snow\,  or shine we are open with a wide variety of fresh
  and local fruits and vegetables\,  pasture raised eggs and meats like beef
 \,  pork\,  and chicken\,  coffee\,  ready to eat foods\,  artisanal chocol
 ate\,  herbal self-care\,  honey\, [..]\nhttps://visitharrisonburgva.com/ev
 ents/harrisonburg-farmers-market/
URL:https://visitharrisonburgva.com/events/harrisonburg-farmers-market/
END:VEVENT
END:VCALENDAR