BEGIN:VCALENDAR
VERSION:2.0
PRODID:-//eventon.com NONSGML v1.0//EN
CALSCALE:GREGORIAN
METHOD:PUBLISH
BEGIN:VEVENT
UID:69e8a48578940
DTSTAMP:20260422T103549Z
DTSTART:20260214T220000Z
DTEND:20260215T045900Z
LOCATION:Aristocat Cafe + Tea House 111 N Liberty St\,  Harrisonburg\,  VA 22802
SUMMARY:Death by Chocolate: A Murder Mystery Dinner
DESCRIPTION:Something decadent is coming… On Valentine’s Night\,  step 
 through the doors of Aristocat Café and into the candlelit salons of 1900 
 Paris\,  where silk gloves conceal secrets and every smile hides a motive. 
 Chocolate will inspire\,  scandal will simmer\,  and a terrible truth will 
 linger beneath the lace and perfume.[..]\nhttps://visitharrisonburgva.com/e
 vents/death-by-chocolate-a-murder-mystery-dinner/
URL:https://visitharrisonburgva.com/events/death-by-chocolate-a-murder-mystery-dinner/
END:VEVENT
END:VCALENDAR