BEGIN:VCALENDAR
VERSION:2.0
PRODID:-//eventon.com NONSGML v1.0//EN
CALSCALE:GREGORIAN
METHOD:PUBLISH
BEGIN:VEVENT
UID:69e7613d2de1f
DTSTAMP:20260421T113629Z
DTSTART:20260214T153000Z
DTEND:20260215T045900Z
LOCATION:Edith J. Carrier Arboretum\,  780 University Blvd\,  Harrisonburg\,  VA 22807\,  USA Edith J. Carrier Arboretum\,  780 University Blvd\,  Harrisonburg\,  VA 22807\,  USA
SUMMARY:Landscaping with Native Plants: Master Gardeners Talk Series
DESCRIPTION:Create a backyard bounty to provide food and habitat for pollin
 ators and wildlife. Discover a diverse array of native plants providing yea
 r-round beauty for you and benefits for all critters. Meet at the Frances P
 lecker Education Center. &nbsp;\nhttps://visitharrisonburgva.com/events/lan
 dscaping-with-native-plants-master-gardeners-talk-series/
URL:https://visitharrisonburgva.com/events/landscaping-with-native-plants-master-gardeners-talk-series/
END:VEVENT
END:VCALENDAR