BEGIN:VCALENDAR
VERSION:2.0
PRODID:-//eventon.com NONSGML v1.0//EN
CALSCALE:GREGORIAN
METHOD:PUBLISH
BEGIN:VEVENT
UID:69e7618966695
DTSTAMP:20260421T113745Z
DTSTART:20260317T230000Z
DTEND:20260318T035900Z
LOCATION:The Golden Pony 181 N Main St Harrisonburg\,  VA 22802
SUMMARY:Crab Action "More Lore" Album Release at the Golden Pony (18+)
DESCRIPTION:Tuesday\,  March 17 &#8211; The Golden Pony Presents: Crab Acti
 on returns to The Golden Pony for their “More Lore” album release show 
 along with guests\,  Trapp Hill Collision and Babies For Brunch! Doors: 7:0
 0PM / Show: 8:00PM DOS: $10.00 ** All individuals seeking entry must presen
 t valid government-issued photo identification\, [..]\nhttps://visitharriso
 nburgva.com/events/crab-action-more-lore-album-release-at-the-golden-pony-1
 8/
URL:https://visitharrisonburgva.com/events/crab-action-more-lore-album-release-at-the-golden-pony-18/
END:VEVENT
END:VCALENDAR