BEGIN:VCALENDAR
VERSION:2.0
PRODID:-//eventon.com NONSGML v1.0//EN
CALSCALE:GREGORIAN
METHOD:PUBLISH
BEGIN:VEVENT
UID:69e8a38c15f7d
DTSTAMP:20260422T103140Z
DTSTART:20260305T233000Z
DTEND:20260306T045900Z
LOCATION:Court Square Theater 41 Court Square\,  Harrisonburg\,  VA 22801
SUMMARY:Fly Fishing Film Tour
DESCRIPTION:Fly Fishing Film Tour is a 2 hour long showcase of the best fly
  fishing films created in 2025. You can expect to hear stories and see some
  amazing footage from anglers all over the world. This year&#8217;s film co
 vers some personal journeys through fly fishing as well as exciting[..]\nht
 tps://visitharrisonburgva.com/events/fly-fishing-film-tour/
URL:https://visitharrisonburgva.com/events/fly-fishing-film-tour/
END:VEVENT
END:VCALENDAR