BEGIN:VCALENDAR
VERSION:2.0
PRODID:-//eventon.com NONSGML v1.0//EN
CALSCALE:GREGORIAN
METHOD:PUBLISH
BEGIN:VEVENT
UID:69e7789bad9a3
DTSTAMP:20260421T131611Z
DTSTART:20260314T000000Z
DTEND:20260314T023000Z
LOCATION:Quills Lobby Bar 710 S. Main St\,  Harrisonburg\,  VA 22801\,  USA
SUMMARY:Matthew Mozingo @ Hotel Madison
DESCRIPTION:Join us in Quills lobby bar for live music! Friday\,  March 13 
 8-10:30pm Matthew Mozingo &nbsp; No cover charge! Enjoy local live music ri
 ght here at Hotel Madison. Complimentary self-parking is available in the M
 ason Street Deck for restaurant patrons. Please bring your ticket with you 
 to be validated by[..]\nhttps://visitharrisonburgva.com/events/matthew-mozi
 ngo-hotel-madison/
URL:https://visitharrisonburgva.com/events/matthew-mozingo-hotel-madison/
END:VEVENT
END:VCALENDAR