BEGIN:VCALENDAR
VERSION:2.0
PRODID:-//eventon.com NONSGML v1.0//EN
CALSCALE:GREGORIAN
METHOD:PUBLISH
BEGIN:VEVENT
UID:69e7514a73442
DTSTAMP:20260421T102826Z
DTSTART:20260416T213000Z
DTEND:20260417T035900Z
LOCATION:Court Square Theater 41 Court Square\,  Harrisonburg\,  VA 22801
SUMMARY:Beyond the Tree Line
DESCRIPTION:On Thursday evening April 16 Court Square Theater will again ho
 st our film and program promoting the Appalachian Trail. We are delighted t
 o announce that the documentary “Beyond the Tree Line” (see attachment)
  will be shown telling the experience of a couple from Lynchburg and their 
 then 4-5 year old[..]\nhttps://visitharrisonburgva.com/events/beyond-the-tr
 ee-line/
URL:https://visitharrisonburgva.com/events/beyond-the-tree-line/
END:VEVENT
END:VCALENDAR