BEGIN:VCALENDAR
VERSION:2.0
PRODID:-//eventon.com NONSGML v1.0//EN
CALSCALE:GREGORIAN
METHOD:PUBLISH
BEGIN:VEVENT
UID:69e8a4f70c8b2
DTSTAMP:20260422T103743Z
DTSTART:20260509T230000Z
DTEND:20260510T010000Z
LOCATION:Ridgeway Mennonite Church 546 Franklin St\,  Harrisonburg\,  VA 22801
SUMMARY:Death's Introduction: A Play by Elizabeth Eby
DESCRIPTION:The Grim Reaper has a PR problem and would like you\,  the audi
 ence\,  to understand that they aren’t as bad as everyone thinks. Grim th
 emself is inviting you to Death&#8217;s Introduction! This philosophical co
 medy will have you thinking a lot about death. But\,  like\,  in a fun way.
  ADMISSION IS[..]\nhttps://visitharrisonburgva.com/events/deaths-introducti
 on-a-play-by-elizabeth-eby/
URL:https://visitharrisonburgva.com/events/deaths-introduction-a-play-by-elizabeth-eby/
END:VEVENT
END:VCALENDAR