BEGIN:VCALENDAR
VERSION:2.0
PRODID:-//eventon.com NONSGML v1.0//EN
CALSCALE:GREGORIAN
METHOD:PUBLISH
BEGIN:VEVENT
UID:69e74999ab7b2
DTSTAMP:20260421T095537Z
DTSTART:20260530T130000Z
DTEND:20260530T200000Z
LOCATION:Innovation Village @ Rockingham Research Drive\,  Rockingham VA
SUMMARY:Harrisonburg Soap Box Derby
DESCRIPTION:The 21st Annual Harrisonburg Soap Box Derby Returns to Rockingh
 am County on May 30. The Rotary Club of Rockingham County is gearing up for
  an exhilarating event that promises to bring fun\,  excitement\,  and frie
 ndly competition to the community. The highly anticipated Harrisonburg Soap
  Box Derby is set to take[..]\nhttps://visitharrisonburgva.com/events/harri
 sonburg-soap-box-derby/
URL:https://visitharrisonburgva.com/events/harrisonburg-soap-box-derby/
END:VEVENT
END:VCALENDAR